BEGIN:VCALENDAR
VERSION:2.0
PRODID:-//Tukios.com/
BEGIN:VEVENT
UID:6155170d-0ffe-4a8b-a4eb-9eaf4e6d5721@www.mintonchatwell.com
DTSTAMP:20260421T231858Z
DTSTART:20260425T200000Z
DTEND:20260425T210000Z
SUMMARY:Graveside Service
DESCRIPTION:
URL:https://www.mintonchatwell.com/obituaries/duane-montgomery
LOCATION: 152 Cemetary Street  Stinnett TX 79083
GEO:35.8276361;-101.4547608
END:VEVENT
END:VCALENDAR