BEGIN:VCALENDAR
VERSION:2.0
PRODID:-//Tukios.com/
BEGIN:VEVENT
UID:2aed5055-6795-44c7-af80-ce39b3688e3f@www.mintonchatwell.com
DTSTAMP:20260421T232240Z
DTSTART:20260425T190000Z
DTEND:20260425T200000Z
SUMMARY:Funeral Service
DESCRIPTION:
URL:https://www.mintonchatwell.com/obituaries/duane-montgomery
LOCATION: 314 S Hedgecoke St  Borger TX 79007
GEO:35.6632136;-101.3924464
END:VEVENT
END:VCALENDAR